BEGIN:VCALENDAR
VERSION:2.0
PRODID:-//StreamRadar//Match Calendar//EN
CALSCALE:GREGORIAN
METHOD:PUBLISH
X-WR-CALNAME:Puerto Montt vs Rangers
X-WR-TIMEZONE:America/New_York
BEGIN:VEVENT
UID:match-5562314@streamradar.soccer
SUMMARY:Puerto Montt vs Rangers
DTSTAMP:20260421T114448Z
DTSTART;TZID=America/New_York:20260906T000000
DTEND;TZID=America/New_York:20260906T020000
LOCATION:Estadio Regional de Chinquihue
DESCRIPTION:Gde gledati Puerto Montt protiv Rangers u takmičenju Čile - P
 rimera B. Prenos uživo i TV program.\nhttps://streamradar.soccer/sr/match/
 5562314/puerto-montt-vs-rangers/
URL;VALUE=URI:https://streamradar.soccer/sr/match/5562314/puerto-montt-vs-r
 angers/
STATUS:CONFIRMED
END:VEVENT
END:VCALENDAR
