BEGIN:VCALENDAR
VERSION:2.0
PRODID:-//StreamRadar//Match Calendar//EN
CALSCALE:GREGORIAN
METHOD:PUBLISH
X-WR-CALNAME:Auda vs Rīgas FS
X-WR-TIMEZONE:America/New_York
BEGIN:VEVENT
UID:match-5561939@streamradar.soccer
SUMMARY:Auda vs Rīgas FS
DTSTAMP:20260421T213552Z
DTSTART;TZID=America/New_York:20260918T110000
DTEND;TZID=America/New_York:20260918T130000
LOCATION:Skonto stadions
DESCRIPTION:Gde gledati Auda protiv Rīgas FS u takmičenju Letonija - Virs
 liga. Prenos uživo i TV program.\nhttps://streamradar.soccer/sr/match/5561
 939/auda-vs-r-gas-fs/
URL;VALUE=URI:https://streamradar.soccer/sr/match/5561939/auda-vs-r-gas-fs/
STATUS:CONFIRMED
END:VEVENT
END:VCALENDAR
