BEGIN:VCALENDAR
VERSION:2.0
PRODID:-//StreamRadar//Match Calendar//EN
CALSCALE:GREGORIAN
METHOD:PUBLISH
X-WR-CALNAME:BFC Daugavpils vs Rīgas FS
X-WR-TIMEZONE:America/New_York
BEGIN:VEVENT
UID:match-5561937@streamradar.soccer
SUMMARY:BFC Daugavpils vs Rīgas FS
DTSTAMP:20260421T213548Z
DTSTART;TZID=America/New_York:20260913T070000
DTEND;TZID=America/New_York:20260913T090000
LOCATION:Stadions Celtnieks
DESCRIPTION:Gde gledati BFC Daugavpils protiv Rīgas FS u takmičenju Leton
 ija - Virsliga. Prenos uživo i TV program.\nhttps://streamradar.soccer/sr/
 match/5561937/bfc-daugavpils-vs-r-gas-fs/
URL;VALUE=URI:https://streamradar.soccer/sr/match/5561937/bfc-daugavpils-vs
 -r-gas-fs/
STATUS:CONFIRMED
END:VEVENT
END:VCALENDAR
