BEGIN:VCALENDAR
VERSION:2.0
PRODID:-//StreamRadar//Match Calendar//EN
CALSCALE:GREGORIAN
METHOD:PUBLISH
X-WR-CALNAME:Grobiņa vs FS Jelgava
X-WR-TIMEZONE:America/New_York
BEGIN:VEVENT
UID:match-5561935@streamradar.soccer
SUMMARY:Grobiņa vs FS Jelgava
DTSTAMP:20260422T030924Z
DTSTART;TZID=America/New_York:20260912T070000
DTEND;TZID=America/New_York:20260912T090000
DESCRIPTION:Gde gledati Grobiņa protiv FS Jelgava u takmičenju Letonija -
  Virsliga. Prenos uživo i TV program.\nhttps://streamradar.soccer/sr/match
 /5561935/grobi-a-vs-fs-jelgava/
URL;VALUE=URI:https://streamradar.soccer/sr/match/5561935/grobi-a-vs-fs-jel
 gava/
STATUS:CONFIRMED
END:VEVENT
END:VCALENDAR
