BEGIN:VCALENDAR
VERSION:2.0
PRODID:-//StreamRadar//Match Calendar//EN
CALSCALE:GREGORIAN
METHOD:PUBLISH
X-WR-CALNAME:Tammeka vs Paide
X-WR-TIMEZONE:America/New_York
BEGIN:VEVENT
UID:match-5561669@streamradar.soccer
SUMMARY:Tammeka vs Paide
DTSTAMP:20260421T155057Z
DTSTART;TZID=America/New_York:20260909T120000
DTEND;TZID=America/New_York:20260909T140000
LOCATION:Tamme Stadium
DESCRIPTION:Gde gledati Tammeka protiv Paide u takmičenju Estonija - Meist
 riliiga. Prenos uživo i TV program.\nhttps://streamradar.soccer/sr/match/5
 561669/tammeka-vs-paide/
URL;VALUE=URI:https://streamradar.soccer/sr/match/5561669/tammeka-vs-paide/
STATUS:CONFIRMED
END:VEVENT
END:VCALENDAR
