BEGIN:VCALENDAR
VERSION:2.0
PRODID:-//StreamRadar//Match Calendar//EN
CALSCALE:GREGORIAN
METHOD:PUBLISH
X-WR-CALNAME:Nõmme Kalju vs Nõmme United
X-WR-TIMEZONE:America/New_York
BEGIN:VEVENT
UID:match-5561665@streamradar.soccer
SUMMARY:Nõmme Kalju vs Nõmme United
DTSTAMP:20260421T165349Z
DTSTART;TZID=America/New_York:20260908T120000
DTEND;TZID=America/New_York:20260908T140000
LOCATION:Hiiu Stadium
DESCRIPTION:Gde gledati Nõmme Kalju protiv Nõmme United u takmičenju Est
 onija - Meistriliiga. Prenos uživo i TV program.\nhttps://streamradar.socc
 er/sr/match/5561665/nomme-kalju-vs-nomme-united/
URL;VALUE=URI:https://streamradar.soccer/sr/match/5561665/nomme-kalju-vs-no
 mme-united/
STATUS:CONFIRMED
END:VEVENT
END:VCALENDAR
