BEGIN:VCALENDAR
VERSION:2.0
PRODID:-//StreamRadar//Match Calendar//EN
CALSCALE:GREGORIAN
METHOD:PUBLISH
X-WR-CALNAME:Sogdiana vs Mash'al
X-WR-TIMEZONE:America/New_York
BEGIN:VEVENT
UID:match-5561467@streamradar.soccer
SUMMARY:Sogdiana vs Mash'al
DTSTAMP:20260422T005936Z
DTSTART;TZID=America/New_York:20260903T110000
DTEND;TZID=America/New_York:20260903T130000
LOCATION:Sogdiana Sport Complex
DESCRIPTION:Gde gledati Sogdiana protiv Mash'al u takmičenju Uzbekistanska
  Superliga. Prenos uživo i TV program.\nhttps://streamradar.soccer/sr/matc
 h/5561467/sogdiana-vs-mashal/
URL;VALUE=URI:https://streamradar.soccer/sr/match/5561467/sogdiana-vs-masha
 l/
STATUS:CONFIRMED
END:VEVENT
END:VCALENDAR
