BEGIN:VCALENDAR
VERSION:2.0
PRODID:-//StreamRadar//Match Calendar//EN
CALSCALE:GREGORIAN
METHOD:PUBLISH
X-WR-CALNAME:Pakhtakor vs Andijan
X-WR-TIMEZONE:America/New_York
BEGIN:VEVENT
UID:match-5561465@streamradar.soccer
SUMMARY:Pakhtakor vs Andijan
DTSTAMP:20260421T211055Z
DTSTART;TZID=America/New_York:20260903T110000
DTEND;TZID=America/New_York:20260903T130000
LOCATION:Pakhtakor Central Stadium
DESCRIPTION:Gde gledati Pakhtakor protiv Andijan u takmičenju Uzbekistansk
 a Superliga. Prenos uživo i TV program.\nhttps://streamradar.soccer/sr/mat
 ch/5561465/pakhtakor-vs-andijan/
URL;VALUE=URI:https://streamradar.soccer/sr/match/5561465/pakhtakor-vs-andi
 jan/
STATUS:CONFIRMED
END:VEVENT
END:VCALENDAR
