BEGIN:VCALENDAR
VERSION:2.0
PRODID:-//StreamRadar//Match Calendar//EN
CALSCALE:GREGORIAN
METHOD:PUBLISH
X-WR-CALNAME:AGMK vs Xorazm
X-WR-TIMEZONE:America/New_York
BEGIN:VEVENT
UID:match-5561464@streamradar.soccer
SUMMARY:AGMK vs Xorazm
DTSTAMP:20260422T033646Z
DTSTART;TZID=America/New_York:20260903T110000
DTEND;TZID=America/New_York:20260903T130000
LOCATION:OKMK Sport Majmuasi
DESCRIPTION:Gde gledati AGMK protiv Xorazm u takmičenju Uzbekistanska Supe
 rliga. Prenos uživo i TV program.\nhttps://streamradar.soccer/sr/match/556
 1464/agmk-vs-xorazm/
URL;VALUE=URI:https://streamradar.soccer/sr/match/5561464/agmk-vs-xorazm/
STATUS:CONFIRMED
END:VEVENT
END:VCALENDAR
