BEGIN:VCALENDAR
VERSION:2.0
PRODID:-//StreamRadar//Match Calendar//EN
CALSCALE:GREGORIAN
METHOD:PUBLISH
X-WR-CALNAME:Hereford vs Spennymoor Town
X-WR-TIMEZONE:America/New_York
BEGIN:VEVENT
UID:match-5561267@streamradar.soccer
SUMMARY:Hereford vs Spennymoor Town
DTSTAMP:20260422T111635Z
DTSTART;TZID=America/New_York:20260324T154500
DTEND;TZID=America/New_York:20260324T174500
LOCATION:Edgar Street
DESCRIPTION:Gde gledati Hereford protiv Spennymoor Town u takmičenju Engle
 ska - National Liga N/S. Prenos uživo i TV program.\nhttps://streamradar.s
 occer/sr/match/5561267/hereford-vs-spennymoor-town/
URL;VALUE=URI:https://streamradar.soccer/sr/match/5561267/hereford-vs-spenn
 ymoor-town/
STATUS:CONFIRMED
END:VEVENT
END:VCALENDAR
