BEGIN:VCALENDAR
VERSION:2.0
PRODID:-//StreamRadar//Match Calendar//EN
CALSCALE:GREGORIAN
METHOD:PUBLISH
X-WR-CALNAME:UAI Urquiza vs Excursionistas
X-WR-TIMEZONE:America/New_York
BEGIN:VEVENT
UID:match-5560764@streamradar.soccer
SUMMARY:UAI Urquiza vs Excursionistas
DTSTAMP:20260422T070508Z
DTSTART;TZID=America/New_York:20260919T160000
DTEND;TZID=America/New_York:20260919T180000
LOCATION:Monumental de Villa Lynch
DESCRIPTION:Gde gledati UAI Urquiza protiv Excursionistas u takmičenju Arg
 entina - Primera B Metropolitana. Prenos uživo i TV program.\nhttps://stre
 amradar.soccer/sr/match/5560764/uai-urquiza-vs-excursionistas/
URL;VALUE=URI:https://streamradar.soccer/sr/match/5560764/uai-urquiza-vs-ex
 cursionistas/
STATUS:CONFIRMED
END:VEVENT
END:VCALENDAR
