BEGIN:VCALENDAR
VERSION:2.0
PRODID:-//StreamRadar//Match Calendar//EN
CALSCALE:GREGORIAN
METHOD:PUBLISH
X-WR-CALNAME:Liniers vs Argentino Merlo
X-WR-TIMEZONE:America/New_York
BEGIN:VEVENT
UID:match-5560760@streamradar.soccer
SUMMARY:Liniers vs Argentino Merlo
DTSTAMP:20260422T070507Z
DTSTART;TZID=America/New_York:20260919T160000
DTEND;TZID=America/New_York:20260919T180000
LOCATION:Juan Antonio Arias Stadium
DESCRIPTION:Gde gledati Liniers protiv Argentino Merlo u takmičenju Argent
 ina - Primera B Metropolitana. Prenos uživo i TV program.\nhttps://streamr
 adar.soccer/sr/match/5560760/liniers-vs-argentino-merlo/
URL;VALUE=URI:https://streamradar.soccer/sr/match/5560760/liniers-vs-argent
 ino-merlo/
STATUS:CONFIRMED
END:VEVENT
END:VCALENDAR
