BEGIN:VCALENDAR
VERSION:2.0
PRODID:-//StreamRadar//Match Calendar//EN
CALSCALE:GREGORIAN
METHOD:PUBLISH
X-WR-CALNAME:Villa San Carlos vs Brown de Adrogué
X-WR-TIMEZONE:America/New_York
BEGIN:VEVENT
UID:match-5560744@streamradar.soccer
SUMMARY:Villa San Carlos vs Brown de Adrogué
DTSTAMP:20260421T092312Z
DTSTART;TZID=America/New_York:20260905T160000
DTEND;TZID=America/New_York:20260905T180000
LOCATION:Genacio Salice Stadium
DESCRIPTION:Gde gledati Villa San Carlos protiv Brown De Adrogué u takmič
 enju Argentina - Primera B Metropolitana. Prenos uživo i TV program.\nhttp
 s://streamradar.soccer/sr/match/5560744/villa-san-carlos-vs-brown-de-adrogu
 e/
URL;VALUE=URI:https://streamradar.soccer/sr/match/5560744/villa-san-carlos-
 vs-brown-de-adrogue/
STATUS:CONFIRMED
END:VEVENT
END:VCALENDAR
