BEGIN:VCALENDAR
VERSION:2.0
PRODID:-//StreamRadar//Match Calendar//EN
CALSCALE:GREGORIAN
METHOD:PUBLISH
X-WR-CALNAME:Sportivo Italiano vs Flandria
X-WR-TIMEZONE:America/New_York
BEGIN:VEVENT
UID:match-5560741@streamradar.soccer
SUMMARY:Sportivo Italiano vs Flandria
DTSTAMP:20260421T085531Z
DTSTART;TZID=America/New_York:20260905T160000
DTEND;TZID=America/New_York:20260905T180000
LOCATION:Republica de Italia Stadium
DESCRIPTION:Gde gledati Sportivo Italiano protiv Flandria u takmičenju Arg
 entina - Primera B Metropolitana. Prenos uživo i TV program.\nhttps://stre
 amradar.soccer/sr/match/5560741/sportivo-italiano-vs-flandria/
URL;VALUE=URI:https://streamradar.soccer/sr/match/5560741/sportivo-italiano
 -vs-flandria/
STATUS:CONFIRMED
END:VEVENT
END:VCALENDAR
