BEGIN:VCALENDAR
VERSION:2.0
PRODID:-//StreamRadar//Match Calendar//EN
CALSCALE:GREGORIAN
METHOD:PUBLISH
X-WR-CALNAME:Liniers vs Deportivo Laferrere
X-WR-TIMEZONE:America/New_York
BEGIN:VEVENT
UID:match-5560738@streamradar.soccer
SUMMARY:Liniers vs Deportivo Laferrere
DTSTAMP:20260421T093214Z
DTSTART;TZID=America/New_York:20260905T160000
DTEND;TZID=America/New_York:20260905T180000
LOCATION:Juan Antonio Arias Stadium
DESCRIPTION:Gde gledati Liniers protiv Deportivo Laferrere u takmičenju Ar
 gentina - Primera B Metropolitana. Prenos uživo i TV program.\nhttps://str
 eamradar.soccer/sr/match/5560738/liniers-vs-deportivo-laferrere/
URL;VALUE=URI:https://streamradar.soccer/sr/match/5560738/liniers-vs-deport
 ivo-laferrere/
STATUS:CONFIRMED
END:VEVENT
END:VCALENDAR
