BEGIN:VCALENDAR
VERSION:2.0
PRODID:-//StreamRadar//Match Calendar//EN
CALSCALE:GREGORIAN
METHOD:PUBLISH
X-WR-CALNAME:Dock Sud vs Comunicaciones
X-WR-TIMEZONE:America/New_York
BEGIN:VEVENT
UID:match-5560736@streamradar.soccer
SUMMARY:Dock Sud vs Comunicaciones
DTSTAMP:20260421T101935Z
DTSTART;TZID=America/New_York:20260905T160000
DTEND;TZID=America/New_York:20260905T180000
LOCATION:Estadio de los Inmigrantes
DESCRIPTION:Gde gledati Dock Sud protiv Comunicaciones u takmičenju Argent
 ina - Primera B Metropolitana. Prenos uživo i TV program.\nhttps://streamr
 adar.soccer/sr/match/5560736/dock-sud-vs-comunicaciones/
URL;VALUE=URI:https://streamradar.soccer/sr/match/5560736/dock-sud-vs-comun
 icaciones/
STATUS:CONFIRMED
END:VEVENT
END:VCALENDAR
