BEGIN:VCALENDAR
VERSION:2.0
PRODID:-//StreamRadar//Match Calendar//EN
CALSCALE:GREGORIAN
METHOD:PUBLISH
X-WR-CALNAME:Flandria vs Real Pilar
X-WR-TIMEZONE:America/New_York
BEGIN:VEVENT
UID:match-5560466@streamradar.soccer
SUMMARY:Flandria vs Real Pilar
DTSTAMP:20260422T000447Z
DTSTART;TZID=America/New_York:20260404T140000
DTEND;TZID=America/New_York:20260404T160000
LOCATION:Estadio Carlos V
DESCRIPTION:Gde gledati Flandria protiv Real Pilar u takmičenju Argentina 
 - Primera B Metropolitana. Prenos uživo i TV program.\nhttps://streamradar
 .soccer/sr/match/5560466/flandria-vs-real-pilar/
URL;VALUE=URI:https://streamradar.soccer/sr/match/5560466/flandria-vs-real-
 pilar/
STATUS:CONFIRMED
END:VEVENT
END:VCALENDAR
