BEGIN:VCALENDAR
VERSION:2.0
PRODID:-//StreamRadar//Match Calendar//EN
CALSCALE:GREGORIAN
METHOD:PUBLISH
X-WR-CALNAME:Ciudad de Bolívar vs Chaco For Ever
X-WR-TIMEZONE:America/New_York
BEGIN:VEVENT
UID:match-5560114@streamradar.soccer
SUMMARY:Ciudad de Bolívar vs Chaco For Ever
DTSTAMP:20260422T053928Z
DTSTART;TZID=America/New_York:20260919T160000
DTEND;TZID=America/New_York:20260919T180000
LOCATION:Estadio Municipal Eva Peron
DESCRIPTION:Gde gledati Ciudad De Bolívar protiv Chaco For Ever u takmiče
 nju Argentina - Primera Nacional. Prenos uživo i TV program.\nhttps://stre
 amradar.soccer/sr/match/5560114/ciudad-de-bolivar-vs-chaco-for-ever/
URL;VALUE=URI:https://streamradar.soccer/sr/match/5560114/ciudad-de-bolivar
 -vs-chaco-for-ever/
STATUS:CONFIRMED
END:VEVENT
END:VCALENDAR
