BEGIN:VCALENDAR
VERSION:2.0
PRODID:-//StreamRadar//Match Calendar//EN
CALSCALE:GREGORIAN
METHOD:PUBLISH
X-WR-CALNAME:San Miguel vs All Boys
X-WR-TIMEZONE:America/New_York
BEGIN:VEVENT
UID:match-5560104@streamradar.soccer
SUMMARY:San Miguel vs All Boys
DTSTAMP:20260421T095827Z
DTSTART;TZID=America/New_York:20260912T160000
DTEND;TZID=America/New_York:20260912T180000
LOCATION:Estadio Malvinas Argentinas
DESCRIPTION:Gde gledati San Miguel protiv All Boys u takmičenju Argentina 
 - Primera Nacional. Prenos uživo i TV program.\nhttps://streamradar.soccer
 /sr/match/5560104/san-miguel-vs-all-boys/
URL;VALUE=URI:https://streamradar.soccer/sr/match/5560104/san-miguel-vs-all
 -boys/
STATUS:CONFIRMED
END:VEVENT
END:VCALENDAR
