BEGIN:VCALENDAR
VERSION:2.0
PRODID:-//StreamRadar//Match Calendar//EN
CALSCALE:GREGORIAN
METHOD:PUBLISH
X-WR-CALNAME:San Martín San Juan vs Colegiales
X-WR-TIMEZONE:America/New_York
BEGIN:VEVENT
UID:match-5560103@streamradar.soccer
SUMMARY:San Martín San Juan vs Colegiales
DTSTAMP:20260421T110337Z
DTSTART;TZID=America/New_York:20260912T160000
DTEND;TZID=America/New_York:20260912T180000
DESCRIPTION:Gde gledati San Martín San Juan protiv Colegiales u takmičenj
 u Argentina - Primera Nacional. Prenos uživo i TV program.\nhttps://stream
 radar.soccer/sr/match/5560103/san-martin-san-juan-vs-colegiales/
URL;VALUE=URI:https://streamradar.soccer/sr/match/5560103/san-martin-san-ju
 an-vs-colegiales/
STATUS:CONFIRMED
END:VEVENT
END:VCALENDAR
