BEGIN:VCALENDAR
VERSION:2.0
PRODID:-//StreamRadar//Match Calendar//EN
CALSCALE:GREGORIAN
METHOD:PUBLISH
X-WR-CALNAME:Colón vs Los Andes
X-WR-TIMEZONE:America/New_York
BEGIN:VEVENT
UID:match-5560097@streamradar.soccer
SUMMARY:Colón vs Los Andes
DTSTAMP:20260421T120425Z
DTSTART;TZID=America/New_York:20260912T160000
DTEND;TZID=America/New_York:20260912T180000
DESCRIPTION:Gde gledati Colón protiv Los Andes u takmičenju Argentina - P
 rimera Nacional. Prenos uživo i TV program.\nhttps://streamradar.soccer/sr
 /match/5560097/colon-vs-los-andes/
URL;VALUE=URI:https://streamradar.soccer/sr/match/5560097/colon-vs-los-ande
 s/
STATUS:CONFIRMED
END:VEVENT
END:VCALENDAR
