BEGIN:VCALENDAR
VERSION:2.0
PRODID:-//StreamRadar//Match Calendar//EN
CALSCALE:GREGORIAN
METHOD:PUBLISH
X-WR-CALNAME:Criciúma vs Operário PR
X-WR-TIMEZONE:America/New_York
BEGIN:VEVENT
UID:match-5559564@streamradar.soccer
SUMMARY:Criciúma vs Operário PR
DTSTAMP:20260422T052757Z
DTSTART;TZID=America/New_York:20260919T150000
DTEND;TZID=America/New_York:20260919T170000
DESCRIPTION:Gde gledati Criciúma protiv Operário PR u takmičenju Brazil 
 - Serie B. Prenos uživo i TV program.\nhttps://streamradar.soccer/sr/match
 /5559564/criciuma-vs-operario-pr/
URL;VALUE=URI:https://streamradar.soccer/sr/match/5559564/criciuma-vs-opera
 rio-pr/
STATUS:CONFIRMED
END:VEVENT
END:VCALENDAR
