BEGIN:VCALENDAR
VERSION:2.0
PRODID:-//StreamRadar//Match Calendar//EN
CALSCALE:GREGORIAN
METHOD:PUBLISH
X-WR-CALNAME:Ceará vs Novorizontino
X-WR-TIMEZONE:America/New_York
BEGIN:VEVENT
UID:match-5559563@streamradar.soccer
SUMMARY:Ceará vs Novorizontino
DTSTAMP:20260422T043237Z
DTSTART;TZID=America/New_York:20260919T150000
DTEND;TZID=America/New_York:20260919T170000
DESCRIPTION:Gde gledati Ceará protiv Novorizontino u takmičenju Brazil - 
 Serie B. Prenos uživo i TV program.\nhttps://streamradar.soccer/sr/match/5
 559563/ceara-vs-novorizontino/
URL;VALUE=URI:https://streamradar.soccer/sr/match/5559563/ceara-vs-novorizo
 ntino/
STATUS:CONFIRMED
END:VEVENT
END:VCALENDAR
