BEGIN:VCALENDAR
VERSION:2.0
PRODID:-//StreamRadar//Match Calendar//EN
CALSCALE:GREGORIAN
METHOD:PUBLISH
X-WR-CALNAME:CRB vs Sport Recife
X-WR-TIMEZONE:America/New_York
BEGIN:VEVENT
UID:match-5559556@streamradar.soccer
SUMMARY:CRB vs Sport Recife
DTSTAMP:20260421T172618Z
DTSTART;TZID=America/New_York:20260912T150000
DTEND;TZID=America/New_York:20260912T170000
DESCRIPTION:Gde gledati CRB protiv Sport Recife u takmičenju Brazil - Seri
 e B. Prenos uživo i TV program.\nhttps://streamradar.soccer/sr/match/55595
 56/crb-vs-sport-recife/
URL;VALUE=URI:https://streamradar.soccer/sr/match/5559556/crb-vs-sport-reci
 fe/
STATUS:CONFIRMED
END:VEVENT
END:VCALENDAR
