BEGIN:VCALENDAR
VERSION:2.0
PRODID:-//StreamRadar//Match Calendar//EN
CALSCALE:GREGORIAN
METHOD:PUBLISH
X-WR-CALNAME:Botafogo SP vs Novorizontino
X-WR-TIMEZONE:America/New_York
BEGIN:VEVENT
UID:match-5559544@streamradar.soccer
SUMMARY:Botafogo SP vs Novorizontino
DTSTAMP:20260421T135926Z
DTSTART;TZID=America/New_York:20260909T150000
DTEND;TZID=America/New_York:20260909T170000
LOCATION:Estadio Santa Cruz
DESCRIPTION:Gde gledati Botafogo SP protiv Novorizontino u takmičenju Braz
 il - Serie B. Prenos uživo i TV program.\nhttps://streamradar.soccer/sr/ma
 tch/5559544/botafogo-sp-vs-novorizontino/
URL;VALUE=URI:https://streamradar.soccer/sr/match/5559544/botafogo-sp-vs-no
 vorizontino/
STATUS:CONFIRMED
END:VEVENT
END:VCALENDAR
