BEGIN:VCALENDAR
VERSION:2.0
PRODID:-//StreamRadar//Match Calendar//EN
CALSCALE:GREGORIAN
METHOD:PUBLISH
X-WR-CALNAME:Manta vs Aucas
X-WR-TIMEZONE:America/New_York
BEGIN:VEVENT
UID:match-5559187@streamradar.soccer
SUMMARY:Manta vs Aucas
DTSTAMP:20260422T113501Z
DTSTART;TZID=America/New_York:20260913T160000
DTEND;TZID=America/New_York:20260913T180000
LOCATION:Estadio Jocay
DESCRIPTION:Gde gledati Manta protiv Aucas u takmičenju Ekvador - Primera 
 A. Prenos uživo i TV program.\nhttps://streamradar.soccer/sr/match/5559187
 /manta-vs-aucas/
URL;VALUE=URI:https://streamradar.soccer/sr/match/5559187/manta-vs-aucas/
STATUS:CONFIRMED
END:VEVENT
END:VCALENDAR
