BEGIN:VCALENDAR
VERSION:2.0
PRODID:-//StreamRadar//Match Calendar//EN
CALSCALE:GREGORIAN
METHOD:PUBLISH
X-WR-CALNAME:Leones del Norte vs Universidad Católica
X-WR-TIMEZONE:America/New_York
BEGIN:VEVENT
UID:match-5559089@streamradar.soccer
SUMMARY:Leones del Norte vs Universidad Católica
DTSTAMP:20260421T185327Z
DTSTART;TZID=America/New_York:20260705T160000
DTEND;TZID=America/New_York:20260705T180000
LOCATION:Estadio Olimpico de Ibarra
DESCRIPTION:Gde gledati Leones Del Norte protiv Universidad Católica u tak
 mičenju Ekvador - Primera A. Prenos uživo i TV program.\nhttps://streamra
 dar.soccer/sr/match/5559089/leones-del-norte-vs-universidad-catolica/
URL;VALUE=URI:https://streamradar.soccer/sr/match/5559089/leones-del-norte-
 vs-universidad-catolica/
STATUS:CONFIRMED
END:VEVENT
END:VCALENDAR
