BEGIN:VCALENDAR
VERSION:2.0
PRODID:-//StreamRadar//Match Calendar//EN
CALSCALE:GREGORIAN
METHOD:PUBLISH
X-WR-CALNAME:Wolfenbüttel vs Atlas Delmenhorst
X-WR-TIMEZONE:America/New_York
BEGIN:VEVENT
UID:match-5558179@streamradar.soccer
SUMMARY:Wolfenbüttel vs Atlas Delmenhorst
DTSTAMP:20260423T070404Z
DTSTART;TZID=America/New_York:20260304T133000
DTEND;TZID=America/New_York:20260304T153000
LOCATION:Rasenplatz MTV Männerturnverein Wolfenbüttel (Wolfenbüttel)
DESCRIPTION:Gde gledati Wolfenbüttel protiv Atlas Delmenhorst u takmičenj
 u Nemačka - Oberliga. Prenos uživo i TV program.\nhttps://streamradar.soc
 cer/sr/match/5558179/wolfenb-ttel-vs-atlas-delmenhorst/
URL;VALUE=URI:https://streamradar.soccer/sr/match/5558179/wolfenb-ttel-vs-a
 tlas-delmenhorst/
STATUS:CONFIRMED
END:VEVENT
END:VCALENDAR
