BEGIN:VCALENDAR
VERSION:2.0
PRODID:-//StreamRadar//Match Calendar//EN
CALSCALE:GREGORIAN
METHOD:PUBLISH
X-WR-CALNAME:GIF Sundsvall vs Elfsborg
X-WR-TIMEZONE:America/New_York
BEGIN:VEVENT
UID:match-5558065@streamradar.soccer
SUMMARY:GIF Sundsvall vs Elfsborg
DTSTAMP:20260423T123831Z
DTSTART;TZID=America/New_York:20260228T090000
DTEND;TZID=America/New_York:20260228T110000
LOCATION:NP3 Arena
DESCRIPTION:Gde gledati GIF Sundsvall protiv Elfsborg u takmičenju Švedsk
 i Kup. Prenos uživo i TV program.\nhttps://streamradar.soccer/sr/match/555
 8065/gif-sundsvall-vs-elfsborg/
URL;VALUE=URI:https://streamradar.soccer/sr/match/5558065/gif-sundsvall-vs-
 elfsborg/
STATUS:CONFIRMED
END:VEVENT
END:VCALENDAR
