BEGIN:VCALENDAR
VERSION:2.0
PRODID:-//StreamRadar//Match Calendar//EN
CALSCALE:GREGORIAN
METHOD:PUBLISH
X-WR-CALNAME:Australia vs Korea Republic
X-WR-TIMEZONE:America/New_York
BEGIN:VEVENT
UID:match-5557923@streamradar.soccer
SUMMARY:Australia vs Korea Republic
DTSTAMP:20260423T044857Z
DTSTART;TZID=America/New_York:20260308T050000
DTEND;TZID=America/New_York:20260308T070000
LOCATION:Accor Stadium
DESCRIPTION:Gde gledati Australia protiv Korea Republic u takmičenju AFC K
 up ženskih reprezentacija Azije. Prenos uživo i TV program.\nhttps://stre
 amradar.soccer/sr/match/5557923/australia-vs-korea-republic/
URL;VALUE=URI:https://streamradar.soccer/sr/match/5557923/australia-vs-kore
 a-republic/
STATUS:CONFIRMED
END:VEVENT
END:VCALENDAR
