BEGIN:VCALENDAR
VERSION:2.0
PRODID:-//StreamRadar//Match Calendar//EN
CALSCALE:GREGORIAN
METHOD:PUBLISH
X-WR-CALNAME:PAS Mates vs Cercle De Joachim
X-WR-TIMEZONE:America/New_York
BEGIN:VEVENT
UID:match-5557910@streamradar.soccer
SUMMARY:PAS Mates vs Cercle De Joachim
DTSTAMP:20260423T173041Z
DTSTART;TZID=America/New_York:20260221T063000
DTEND;TZID=America/New_York:20260221T083000
DESCRIPTION:Gde gledati PAS Mates protiv Cercle De Joachim u takmičenju Ma
 uricijus - Mauritian League. Prenos uživo i TV program.\nhttps://streamrad
 ar.soccer/sr/match/5557910/pas-mates-vs-cercle-de-joachim/
URL;VALUE=URI:https://streamradar.soccer/sr/match/5557910/pas-mates-vs-cerc
 le-de-joachim/
STATUS:CONFIRMED
END:VEVENT
END:VCALENDAR
