BEGIN:VCALENDAR
VERSION:2.0
PRODID:-//StreamRadar//Match Calendar//EN
CALSCALE:GREGORIAN
METHOD:PUBLISH
X-WR-CALNAME:Lippstadt 08 vs Vreden
X-WR-TIMEZONE:America/New_York
BEGIN:VEVENT
UID:match-5556699@streamradar.soccer
SUMMARY:Lippstadt 08 vs Vreden
DTSTAMP:20260422T194455Z
DTSTART;TZID=America/New_York:20260318T140000
DTEND;TZID=America/New_York:20260318T160000
LOCATION:Liebelt-Arena (Lippstadt)
DESCRIPTION:Gde gledati Lippstadt 08 protiv Vreden u takmičenju Nemačka -
  Oberliga. Prenos uživo i TV program.\nhttps://streamradar.soccer/sr/match
 /5556699/lippstadt-08-vs-vreden/
URL;VALUE=URI:https://streamradar.soccer/sr/match/5556699/lippstadt-08-vs-v
 reden/
STATUS:CONFIRMED
END:VEVENT
END:VCALENDAR
