BEGIN:VCALENDAR
VERSION:2.0
PRODID:-//StreamRadar//Match Calendar//EN
CALSCALE:GREGORIAN
METHOD:PUBLISH
X-WR-CALNAME:Golden Arrows vs Stellenbosch
X-WR-TIMEZONE:America/New_York
BEGIN:VEVENT
UID:match-5556678@streamradar.soccer
SUMMARY:Golden Arrows vs Stellenbosch
DTSTAMP:20260423T173040Z
DTSTART;TZID=America/New_York:20260221T110000
DTEND;TZID=America/New_York:20260221T130000
LOCATION:Sugar Ray Xulu Stadium
DESCRIPTION:Gde gledati Golden Arrows protiv Stellenbosch u takmičenju Ju
 na Afrika - Nedbank Cup. Prenos uživo i TV program.\nhttps://streamradar.
 soccer/sr/match/5556678/golden-arrows-vs-stellenbosch/
URL;VALUE=URI:https://streamradar.soccer/sr/match/5556678/golden-arrows-vs-
 stellenbosch/
STATUS:CONFIRMED
END:VEVENT
END:VCALENDAR
