BEGIN:VCALENDAR
VERSION:2.0
PRODID:-//StreamRadar//Match Calendar//EN
CALSCALE:GREGORIAN
METHOD:PUBLISH
X-WR-CALNAME:Darlington vs Radcliffe Borough
X-WR-TIMEZONE:America/New_York
BEGIN:VEVENT
UID:match-5556659@streamradar.soccer
SUMMARY:Darlington vs Radcliffe Borough
DTSTAMP:20260422T201201Z
DTSTART;TZID=America/New_York:20260317T154500
DTEND;TZID=America/New_York:20260317T174500
LOCATION:Blackwell Meadows
DESCRIPTION:Gde gledati Darlington protiv Radcliffe Borough u takmičenju E
 ngleska - National Liga N/S. Prenos uživo i TV program.\nhttps://streamrad
 ar.soccer/sr/match/5556659/darlington-vs-radcliffe-borough/
URL;VALUE=URI:https://streamradar.soccer/sr/match/5556659/darlington-vs-rad
 cliffe-borough/
STATUS:CONFIRMED
END:VEVENT
END:VCALENDAR
