BEGIN:VCALENDAR
VERSION:2.0
PRODID:-//StreamRadar//Match Calendar//EN
CALSCALE:GREGORIAN
METHOD:PUBLISH
X-WR-CALNAME:América de Cali vs Junior
X-WR-TIMEZONE:America/New_York
BEGIN:VEVENT
UID:match-5546567@streamradar.soccer
SUMMARY:América de Cali vs Junior
DTSTAMP:20260424T000052Z
DTSTART;TZID=America/New_York:20260213T170000
DTEND;TZID=America/New_York:20260213T190000
LOCATION:Estadio Olímpico Pascual Guerrero (Santiago de Cali)
DESCRIPTION:Gde gledati América De Cali protiv Junior u takmičenju Kolumb
 ija - Liga Femenina. Prenos uživo i TV program.\nhttps://streamradar.socce
 r/sr/match/5546567/america-de-cali-vs-junior/
URL;VALUE=URI:https://streamradar.soccer/sr/match/5546567/america-de-cali-v
 s-junior/
STATUS:CONFIRMED
END:VEVENT
END:VCALENDAR
