BEGIN:VCALENDAR
VERSION:2.0
PRODID:-//StreamRadar//Match Calendar//EN
CALSCALE:GREGORIAN
METHOD:PUBLISH
X-WR-CALNAME:SK Poltava vs Bukovyna
X-WR-TIMEZONE:America/New_York
BEGIN:VEVENT
UID:match-5545632@streamradar.soccer
SUMMARY:SK Poltava vs Bukovyna
DTSTAMP:20260423T233713Z
DTSTART;TZID=America/New_York:20260213T080000
DTEND;TZID=America/New_York:20260213T100000
LOCATION:Stadion Lokomotiv (Poltava)
DESCRIPTION:Gde gledati SK Poltava protiv Bukovyna u takmičenju Prijateljs
 ka utakmica. Prenos uživo i TV program.\nhttps://streamradar.soccer/sr/mat
 ch/5545632/sk-poltava-vs-bukovyna/
URL;VALUE=URI:https://streamradar.soccer/sr/match/5545632/sk-poltava-vs-buk
 ovyna/
STATUS:CONFIRMED
END:VEVENT
END:VCALENDAR
