BEGIN:VCALENDAR
VERSION:2.0
PRODID:-//StreamRadar//Match Calendar//EN
CALSCALE:GREGORIAN
METHOD:PUBLISH
X-WR-CALNAME:Crystal Palace U21 vs Fulham U21
X-WR-TIMEZONE:America/New_York
BEGIN:VEVENT
UID:match-5540716@streamradar.soccer
SUMMARY:Crystal Palace U21 vs Fulham U21
DTSTAMP:20260423T233712Z
DTSTART;TZID=America/New_York:20260213T140000
DTEND;TZID=America/New_York:20260213T160000
LOCATION:VBS Community Stadium
DESCRIPTION:Gde gledati Crystal Palace U21 protiv Fulham U21 u takmičenju 
 Engleska - Premier League 2. Prenos uživo i TV program.\nhttps://streamrad
 ar.soccer/sr/match/5540716/crystal-palace-u21-vs-fulham-u21/
URL;VALUE=URI:https://streamradar.soccer/sr/match/5540716/crystal-palace-u2
 1-vs-fulham-u21/
STATUS:CONFIRMED
END:VEVENT
END:VCALENDAR
