BEGIN:VCALENDAR
VERSION:2.0
PRODID:-//StreamRadar//Match Calendar//EN
CALSCALE:GREGORIAN
METHOD:PUBLISH
X-WR-CALNAME:JIPPO vs Klubi-04
X-WR-TIMEZONE:America/New_York
BEGIN:VEVENT
UID:match-5535689@streamradar.soccer
SUMMARY:JIPPO vs Klubi-04
DTSTAMP:20260425T132744Z
DTSTART;TZID=America/New_York:20260912T090000
DTEND;TZID=America/New_York:20260912T110000
DESCRIPTION:Gde gledati JIPPO protiv Klubi-04 u takmičenju Finska - Ykkös
 liiga. Prenos uživo i TV program.\nhttps://streamradar.soccer/sr/match/553
 5689/jippo-vs-klubi-04/
URL;VALUE=URI:https://streamradar.soccer/sr/match/5535689/jippo-vs-klubi-04
 /
STATUS:CONFIRMED
END:VEVENT
END:VCALENDAR
