BEGIN:VCALENDAR
VERSION:2.0
PRODID:-//StreamRadar//Match Calendar//EN
CALSCALE:GREGORIAN
METHOD:PUBLISH
X-WR-CALNAME:HB vs AB
X-WR-TIMEZONE:America/New_York
BEGIN:VEVENT
UID:match-5535059@streamradar.soccer
SUMMARY:HB vs AB
DTSTAMP:20260422T065628Z
DTSTART;TZID=America/New_York:20260919T100000
DTEND;TZID=America/New_York:20260919T120000
LOCATION:Gundadalur
DESCRIPTION:Gde gledati HB protiv AB u takmičenju Farska Ostrva - Premijer
  liga Farskih ostrva. Prenos uživo i TV program.\nhttps://streamradar.socc
 er/sr/match/5535059/hb-vs-ab/
URL;VALUE=URI:https://streamradar.soccer/sr/match/5535059/hb-vs-ab/
STATUS:CONFIRMED
END:VEVENT
END:VCALENDAR
