BEGIN:VCALENDAR
VERSION:2.0
PRODID:-//StreamRadar//Match Calendar//EN
CALSCALE:GREGORIAN
METHOD:PUBLISH
X-WR-CALNAME:KÍ vs Skála
X-WR-TIMEZONE:America/New_York
BEGIN:VEVENT
UID:match-5535058@streamradar.soccer
SUMMARY:KÍ vs Skála
DTSTAMP:20260422T053151Z
DTSTART;TZID=America/New_York:20260918T100000
DTEND;TZID=America/New_York:20260918T120000
DESCRIPTION:Gde gledati KÍ protiv Skála u takmičenju Farska Ostrva - Pre
 mijer liga Farskih ostrva. Prenos uživo i TV program.\nhttps://streamradar
 .soccer/sr/match/5535058/ki-vs-skala/
URL;VALUE=URI:https://streamradar.soccer/sr/match/5535058/ki-vs-skala/
STATUS:CONFIRMED
END:VEVENT
END:VCALENDAR
