BEGIN:VCALENDAR
VERSION:2.0
PRODID:-//StreamRadar//Match Calendar//EN
CALSCALE:GREGORIAN
METHOD:PUBLISH
X-WR-CALNAME:Ariana vs Utsikten
X-WR-TIMEZONE:America/New_York
BEGIN:VEVENT
UID:match-5534758@streamradar.soccer
SUMMARY:Ariana vs Utsikten
DTSTAMP:20260422T052641Z
DTSTART;TZID=America/New_York:20260919T100000
DTEND;TZID=America/New_York:20260919T120000
LOCATION:Hyllie IP
DESCRIPTION:Gde gledati Ariana protiv Utsikten u takmičenju Švedska - Ett
 an. Prenos uživo i TV program.\nhttps://streamradar.soccer/sr/match/553475
 8/ariana-vs-utsikten/
URL;VALUE=URI:https://streamradar.soccer/sr/match/5534758/ariana-vs-utsikte
 n/
STATUS:CONFIRMED
END:VEVENT
END:VCALENDAR
