BEGIN:VCALENDAR
VERSION:2.0
PRODID:-//StreamRadar//Match Calendar//EN
CALSCALE:GREGORIAN
METHOD:PUBLISH
X-WR-CALNAME:Ängelholm vs Eskilsminne
X-WR-TIMEZONE:America/New_York
BEGIN:VEVENT
UID:match-5534757@streamradar.soccer
SUMMARY:Ängelholm vs Eskilsminne
DTSTAMP:20260425T160533Z
DTSTART;TZID=America/New_York:20260921T130000
DTEND;TZID=America/New_York:20260921T150000
DESCRIPTION:Gde gledati Ängelholm protiv Eskilsminne u takmičenju Švedsk
 a - Ettan. Prenos uživo i TV program.\nhttps://streamradar.soccer/sr/match
 /5534757/angelholm-vs-eskilsminne/
URL;VALUE=URI:https://streamradar.soccer/sr/match/5534757/angelholm-vs-eski
 lsminne/
STATUS:CONFIRMED
END:VEVENT
END:VCALENDAR
