BEGIN:VCALENDAR
VERSION:2.0
PRODID:-//StreamRadar//Match Calendar//EN
CALSCALE:GREGORIAN
METHOD:PUBLISH
X-WR-CALNAME:Lund vs Ängelholm
X-WR-TIMEZONE:America/New_York
BEGIN:VEVENT
UID:match-5534753@streamradar.soccer
SUMMARY:Lund vs Ängelholm
DTSTAMP:20260421T112141Z
DTSTART;TZID=America/New_York:20260916T130000
DTEND;TZID=America/New_York:20260916T150000
LOCATION:Klostergardens Idrottsplats
DESCRIPTION:Gde gledati Lund protiv Ängelholm u takmičenju Švedska - Ett
 an. Prenos uživo i TV program.\nhttps://streamradar.soccer/sr/match/553475
 3/lund-vs-angelholm/
URL;VALUE=URI:https://streamradar.soccer/sr/match/5534753/lund-vs-angelholm
 /
STATUS:CONFIRMED
END:VEVENT
END:VCALENDAR
