BEGIN:VCALENDAR
VERSION:2.0
PRODID:-//StreamRadar//Match Calendar//EN
CALSCALE:GREGORIAN
METHOD:PUBLISH
X-WR-CALNAME:Lund vs Rosengård
X-WR-TIMEZONE:America/New_York
BEGIN:VEVENT
UID:match-5534745@streamradar.soccer
SUMMARY:Lund vs Rosengård
DTSTAMP:20260421T112132Z
DTSTART;TZID=America/New_York:20260911T130000
DTEND;TZID=America/New_York:20260911T150000
LOCATION:Klostergardens Idrottsplats
DESCRIPTION:Gde gledati Lund protiv Rosengård u takmičenju Švedska - Ett
 an. Prenos uživo i TV program.\nhttps://streamradar.soccer/sr/match/553474
 5/lund-vs-rosengard/
URL;VALUE=URI:https://streamradar.soccer/sr/match/5534745/lund-vs-rosengard
 /
STATUS:CONFIRMED
END:VEVENT
END:VCALENDAR
