BEGIN:VCALENDAR
VERSION:2.0
PRODID:-//StreamRadar//Match Calendar//EN
CALSCALE:GREGORIAN
METHOD:PUBLISH
X-WR-CALNAME:Lugano vs Leones De Rosario
X-WR-TIMEZONE:America/New_York
BEGIN:VEVENT
UID:match-5534234@streamradar.soccer
SUMMARY:Lugano vs Leones De Rosario
DTSTAMP:20260421T204156Z
DTSTART;TZID=America/New_York:20260912T160000
DTEND;TZID=America/New_York:20260912T180000
DESCRIPTION:Gde gledati Lugano protiv Leones De Rosario u takmičenju Argen
 tina - Primera C Metropolitana. Prenos uživo i TV program.\nhttps://stream
 radar.soccer/sr/match/5534234/lugano-vs-leones-de-rosario/
URL;VALUE=URI:https://streamradar.soccer/sr/match/5534234/lugano-vs-leones-
 de-rosario/
STATUS:CONFIRMED
END:VEVENT
END:VCALENDAR
