BEGIN:VCALENDAR
VERSION:2.0
PRODID:-//StreamRadar//Match Calendar//EN
CALSCALE:GREGORIAN
METHOD:PUBLISH
X-WR-CALNAME:Fénix vs Centro Español
X-WR-TIMEZONE:America/New_York
BEGIN:VEVENT
UID:match-5534231@streamradar.soccer
SUMMARY:Fénix vs Centro Español
DTSTAMP:20260421T220330Z
DTSTART;TZID=America/New_York:20260912T160000
DTEND;TZID=America/New_York:20260912T180000
DESCRIPTION:Gde gledati Fénix protiv Centro Español u takmičenju Argenti
 na - Primera C Metropolitana. Prenos uživo i TV program.\nhttps://streamra
 dar.soccer/sr/match/5534231/fenix-vs-centro-espanol/
URL;VALUE=URI:https://streamradar.soccer/sr/match/5534231/fenix-vs-centro-e
 spanol/
STATUS:CONFIRMED
END:VEVENT
END:VCALENDAR
