BEGIN:VCALENDAR
VERSION:2.0
PRODID:-//StreamRadar//Match Calendar//EN
CALSCALE:GREGORIAN
METHOD:PUBLISH
X-WR-CALNAME:Cañuelas vs Victoriano Arenas
X-WR-TIMEZONE:America/New_York
BEGIN:VEVENT
UID:match-5534223@streamradar.soccer
SUMMARY:Cañuelas vs Victoriano Arenas
DTSTAMP:20260421T233045Z
DTSTART;TZID=America/New_York:20260912T160000
DTEND;TZID=America/New_York:20260912T180000
DESCRIPTION:Gde gledati Cañuelas protiv Victoriano Arenas u takmičenju Ar
 gentina - Primera C Metropolitana. Prenos uživo i TV program.\nhttps://str
 eamradar.soccer/sr/match/5534223/canuelas-vs-victoriano-arenas/
URL;VALUE=URI:https://streamradar.soccer/sr/match/5534223/canuelas-vs-victo
 riano-arenas/
STATUS:CONFIRMED
END:VEVENT
END:VCALENDAR
