BEGIN:VCALENDAR
VERSION:2.0
PRODID:-//StreamRadar//Match Calendar//EN
CALSCALE:GREGORIAN
METHOD:PUBLISH
X-WR-CALNAME:Deportivo Español vs Fénix
X-WR-TIMEZONE:America/New_York
BEGIN:VEVENT
UID:match-5534214@streamradar.soccer
SUMMARY:Deportivo Español vs Fénix
DTSTAMP:20260421T194932Z
DTSTART;TZID=America/New_York:20260905T160000
DTEND;TZID=America/New_York:20260905T180000
DESCRIPTION:Gde gledati Deportivo Español protiv Fénix u takmičenju Arge
 ntina - Primera C Metropolitana. Prenos uživo i TV program.\nhttps://strea
 mradar.soccer/sr/match/5534214/deportivo-espanol-vs-fenix/
URL;VALUE=URI:https://streamradar.soccer/sr/match/5534214/deportivo-espanol
 -vs-fenix/
STATUS:CONFIRMED
END:VEVENT
END:VCALENDAR
