BEGIN:VCALENDAR
VERSION:2.0
PRODID:-//StreamRadar//Match Calendar//EN
CALSCALE:GREGORIAN
METHOD:PUBLISH
X-WR-CALNAME:Centro Español vs Sacachispas
X-WR-TIMEZONE:America/New_York
BEGIN:VEVENT
UID:match-5534213@streamradar.soccer
SUMMARY:Centro Español vs Sacachispas
DTSTAMP:20260421T211104Z
DTSTART;TZID=America/New_York:20260905T160000
DTEND;TZID=America/New_York:20260905T180000
DESCRIPTION:Gde gledati Centro Español protiv Sacachispas u takmičenju Ar
 gentina - Primera C Metropolitana. Prenos uživo i TV program.\nhttps://str
 eamradar.soccer/sr/match/5534213/centro-espanol-vs-sacachispas/
URL;VALUE=URI:https://streamradar.soccer/sr/match/5534213/centro-espanol-vs
 -sacachispas/
STATUS:CONFIRMED
END:VEVENT
END:VCALENDAR
