BEGIN:VCALENDAR
VERSION:2.0
PRODID:-//StreamRadar//Match Calendar//EN
CALSCALE:GREGORIAN
METHOD:PUBLISH
X-WR-CALNAME:Deportivo Muñiz vs Atlas
X-WR-TIMEZONE:America/New_York
BEGIN:VEVENT
UID:match-5534144@streamradar.soccer
SUMMARY:Deportivo Muñiz vs Atlas
DTSTAMP:20260422T015638Z
DTSTART;TZID=America/New_York:20260801T160000
DTEND;TZID=America/New_York:20260801T180000
DESCRIPTION:Gde gledati Deportivo Muñiz protiv Atlas u takmičenju Argenti
 na - Primera C Metropolitana. Prenos uživo i TV program.\nhttps://streamra
 dar.soccer/sr/match/5534144/deportivo-muniz-vs-atlas/
URL;VALUE=URI:https://streamradar.soccer/sr/match/5534144/deportivo-muniz-v
 s-atlas/
STATUS:CONFIRMED
END:VEVENT
END:VCALENDAR
